BEGIN:VCALENDAR
VERSION:2.0
PRODID:-//Champagne.ch - ECPv6.15.18//NONSGML v1.0//EN
CALSCALE:GREGORIAN
METHOD:PUBLISH
X-ORIGINAL-URL:https://champagne.ch
X-WR-CALDESC:Évènements pour Champagne.ch
REFRESH-INTERVAL;VALUE=DURATION:PT1H
X-Robots-Tag:noindex
X-PUBLISHED-TTL:PT1H
BEGIN:VTIMEZONE
TZID:Europe/Zurich
BEGIN:DAYLIGHT
TZOFFSETFROM:+0100
TZOFFSETTO:+0200
TZNAME:CEST
DTSTART:20230326T010000
END:DAYLIGHT
BEGIN:STANDARD
TZOFFSETFROM:+0200
TZOFFSETTO:+0100
TZNAME:CET
DTSTART:20231029T010000
END:STANDARD
BEGIN:DAYLIGHT
TZOFFSETFROM:+0100
TZOFFSETTO:+0200
TZNAME:CEST
DTSTART:20240331T010000
END:DAYLIGHT
BEGIN:STANDARD
TZOFFSETFROM:+0200
TZOFFSETTO:+0100
TZNAME:CET
DTSTART:20241027T010000
END:STANDARD
BEGIN:DAYLIGHT
TZOFFSETFROM:+0100
TZOFFSETTO:+0200
TZNAME:CEST
DTSTART:20250330T010000
END:DAYLIGHT
BEGIN:STANDARD
TZOFFSETFROM:+0200
TZOFFSETTO:+0100
TZNAME:CET
DTSTART:20251026T010000
END:STANDARD
END:VTIMEZONE
BEGIN:VEVENT
DTSTART;TZID=Europe/Zurich:20240427T090000
DTEND;TZID=Europe/Zurich:20240427T160000
DTSTAMP:20260419T173302
CREATED:20240215T142357Z
LAST-MODIFIED:20240215T142742Z
UID:4024-1714208400-1714233600@champagne.ch
SUMMARY:Marché des artisans et des producteurs
DESCRIPTION:Petite restauration avec des produits du terroir vaudois. \nUn marché (alimentation\, artisanat\, plantons) réunissant des producteurs locaux
URL:https://champagne.ch/evenement/marche-des-artisans-et-des-producteurs/
LOCATION:Le Point Commun\, Rue des Paquières 8\, Champagne\, Vaud\, 1424\, Suisse
CATEGORIES:Manifestations
END:VEVENT
BEGIN:VEVENT
DTSTART;TZID=Europe/Zurich:20240427T190000
DTEND;TZID=Europe/Zurich:20240427T233000
DTSTAMP:20260419T173302
CREATED:20240307T102950Z
LAST-MODIFIED:20240320T070313Z
UID:4269-1714244400-1714260600@champagne.ch
SUMMARY:Celebrighties - ANNULE
DESCRIPTION:La soirée Celebreighties du samedi 27 avril EST ANNULEE !
URL:https://champagne.ch/evenement/celebrighties/
LOCATION:Temple de Champagne\, Temple\, 1424 Champagne
CATEGORIES:Manifestations
ORGANIZER;CN="FC Champagne":MAILTO:secretaire@fc-champagne.ch
END:VEVENT
END:VCALENDAR