BEGIN:VCALENDAR
VERSION:2.0
PRODID:-//Champagne.ch - ECPv6.15.18//NONSGML v1.0//EN
CALSCALE:GREGORIAN
METHOD:PUBLISH
X-WR-CALNAME:Champagne.ch
X-ORIGINAL-URL:https://champagne.ch
X-WR-CALDESC:Évènements pour Champagne.ch
REFRESH-INTERVAL;VALUE=DURATION:PT1H
X-Robots-Tag:noindex
X-PUBLISHED-TTL:PT1H
BEGIN:VTIMEZONE
TZID:Europe/Zurich
BEGIN:DAYLIGHT
TZOFFSETFROM:+0100
TZOFFSETTO:+0200
TZNAME:CEST
DTSTART:20220327T010000
END:DAYLIGHT
BEGIN:STANDARD
TZOFFSETFROM:+0200
TZOFFSETTO:+0100
TZNAME:CET
DTSTART:20221030T010000
END:STANDARD
BEGIN:DAYLIGHT
TZOFFSETFROM:+0100
TZOFFSETTO:+0200
TZNAME:CEST
DTSTART:20230326T010000
END:DAYLIGHT
BEGIN:STANDARD
TZOFFSETFROM:+0200
TZOFFSETTO:+0100
TZNAME:CET
DTSTART:20231029T010000
END:STANDARD
BEGIN:DAYLIGHT
TZOFFSETFROM:+0100
TZOFFSETTO:+0200
TZNAME:CEST
DTSTART:20240331T010000
END:DAYLIGHT
BEGIN:STANDARD
TZOFFSETFROM:+0200
TZOFFSETTO:+0100
TZNAME:CET
DTSTART:20241027T010000
END:STANDARD
END:VTIMEZONE
BEGIN:VEVENT
DTSTART;TZID=Europe/Zurich:20231202T180000
DTEND;TZID=Europe/Zurich:20231202T233000
DTSTAMP:20260419T232029
CREATED:20230703T143549Z
LAST-MODIFIED:20231009T091441Z
UID:3740-1701540000-1701559800@champagne.ch
SUMMARY:Concert de Le Centenaire Champagne-Onnens
DESCRIPTION:Concert de Le Centenaire Champagne-Onnens à Bonvillars le samedi 2 décembre 2023 à Bonvillars.
URL:https://champagne.ch/evenement/concert-de-le-centenaire-champagne-onnens/
LOCATION:Bonvillars\, Bonvillars\, Suisse
CATEGORIES:Manifestations
END:VEVENT
BEGIN:VEVENT
DTSTART;TZID=Europe/Zurich:20231209T080000
DTEND;TZID=Europe/Zurich:20231209T140000
DTSTAMP:20260419T232029
CREATED:20231129T081518Z
LAST-MODIFIED:20231129T081518Z
UID:3936-1702108800-1702130400@champagne.ch
SUMMARY:TELETHON 2023
DESCRIPTION:SAMEDI 9 DÉCEMBRE 2023 \nDe 8h00 à 11h30: Stand devant le Denner à Champagne avec vin chaud\, thé\, croissants et peluches \nDès 11h30: apéritif en musique à La Cour à Bonvillars \nA 12h30: repas à Bonvillars (soupe au pois\, frites\, jambon\, salade\, pâtisseries) \nTelethon_Affiche 2023
URL:https://champagne.ch/evenement/telethon-2023/
LOCATION:Champagne\, Champagne\, Suisse
CATEGORIES:Manifestations
END:VEVENT
END:VCALENDAR