BEGIN:VCALENDAR
VERSION:2.0
PRODID:-//Champagne.ch - ECPv6.15.18//NONSGML v1.0//EN
CALSCALE:GREGORIAN
METHOD:PUBLISH
X-WR-CALNAME:Champagne.ch
X-ORIGINAL-URL:https://champagne.ch
X-WR-CALDESC:Évènements pour Champagne.ch
REFRESH-INTERVAL;VALUE=DURATION:PT1H
X-Robots-Tag:noindex
X-PUBLISHED-TTL:PT1H
BEGIN:VTIMEZONE
TZID:Europe/Zurich
BEGIN:DAYLIGHT
TZOFFSETFROM:+0100
TZOFFSETTO:+0200
TZNAME:CEST
DTSTART:20220327T010000
END:DAYLIGHT
BEGIN:STANDARD
TZOFFSETFROM:+0200
TZOFFSETTO:+0100
TZNAME:CET
DTSTART:20221030T010000
END:STANDARD
BEGIN:DAYLIGHT
TZOFFSETFROM:+0100
TZOFFSETTO:+0200
TZNAME:CEST
DTSTART:20230326T010000
END:DAYLIGHT
BEGIN:STANDARD
TZOFFSETFROM:+0200
TZOFFSETTO:+0100
TZNAME:CET
DTSTART:20231029T010000
END:STANDARD
BEGIN:DAYLIGHT
TZOFFSETFROM:+0100
TZOFFSETTO:+0200
TZNAME:CEST
DTSTART:20240331T010000
END:DAYLIGHT
BEGIN:STANDARD
TZOFFSETFROM:+0200
TZOFFSETTO:+0100
TZNAME:CET
DTSTART:20241027T010000
END:STANDARD
END:VTIMEZONE
BEGIN:VEVENT
DTSTART;TZID=Europe/Zurich:20231013T170000
DTEND;TZID=Europe/Zurich:20231015T180000
DTSTAMP:20260420T035520
CREATED:20230703T143044Z
LAST-MODIFIED:20231009T090307Z
UID:3734-1697216400-1697392800@champagne.ch
SUMMARY:Fête des Vendanges
DESCRIPTION:Cette année\, la Fête des Vendanges a lieu du 13 au 15 octobre 2023 à Bonvillars.
URL:https://champagne.ch/evenement/fete-des-vendanges-3/
LOCATION:Bonvillars\, Bonvillars\, Suisse
CATEGORIES:Manifestations
END:VEVENT
BEGIN:VEVENT
DTSTART;TZID=Europe/Zurich:20231031T170000
DTEND;TZID=Europe/Zurich:20231031T200000
DTSTAMP:20260420T035520
CREATED:20230706T063602Z
LAST-MODIFIED:20231009T084404Z
UID:3770-1698771600-1698782400@champagne.ch
SUMMARY:Fête de la Ci-trouille
DESCRIPTION:Organisé par Le Point commun à Champagne. \nLes enfants sont mélangés en petits groupes et parcourent le village à la quête de sucreries. Pendant ce temps\, les parents dégustent une soupe à la courge. Les trésors sont répartis équitablement à la fin de la soirée. \nUn moment pour se rencontrer et fêter Halloween autrement !
URL:https://champagne.ch/evenement/fete-de-la-ci-trouille-2/
LOCATION:Champagne\, Champagne\, Suisse
CATEGORIES:Manifestations
END:VEVENT
END:VCALENDAR