BEGIN:VCALENDAR
VERSION:2.0
PRODID:-//Champagne.ch - ECPv6.15.18//NONSGML v1.0//EN
CALSCALE:GREGORIAN
METHOD:PUBLISH
X-WR-CALNAME:Champagne.ch
X-ORIGINAL-URL:https://champagne.ch
X-WR-CALDESC:Évènements pour Champagne.ch
REFRESH-INTERVAL;VALUE=DURATION:PT1H
X-Robots-Tag:noindex
X-PUBLISHED-TTL:PT1H
BEGIN:VTIMEZONE
TZID:Europe/Zurich
BEGIN:DAYLIGHT
TZOFFSETFROM:+0100
TZOFFSETTO:+0200
TZNAME:CEST
DTSTART:20220327T010000
END:DAYLIGHT
BEGIN:STANDARD
TZOFFSETFROM:+0200
TZOFFSETTO:+0100
TZNAME:CET
DTSTART:20221030T010000
END:STANDARD
BEGIN:DAYLIGHT
TZOFFSETFROM:+0100
TZOFFSETTO:+0200
TZNAME:CEST
DTSTART:20230326T010000
END:DAYLIGHT
BEGIN:STANDARD
TZOFFSETFROM:+0200
TZOFFSETTO:+0100
TZNAME:CET
DTSTART:20231029T010000
END:STANDARD
BEGIN:DAYLIGHT
TZOFFSETFROM:+0100
TZOFFSETTO:+0200
TZNAME:CEST
DTSTART:20240331T010000
END:DAYLIGHT
BEGIN:STANDARD
TZOFFSETFROM:+0200
TZOFFSETTO:+0100
TZNAME:CET
DTSTART:20241027T010000
END:STANDARD
END:VTIMEZONE
BEGIN:VEVENT
DTSTART;TZID=Europe/Zurich:20230915T180000
DTEND;TZID=Europe/Zurich:20230916T233000
DTSTAMP:20260420T052609
CREATED:20230130T161648Z
LAST-MODIFIED:20230803T064828Z
UID:3441-1694800800-1694907000@champagne.ch
SUMMARY:Tour de jeunesse
DESCRIPTION:Tour de la jeunesse de Champagne les 15 et 16 septembre 2023. \n 
URL:https://champagne.ch/evenement/tour-de-jeunesse-3/
LOCATION:Temple de Champagne\, Temple\, 1424 Champagne
CATEGORIES:Manifestations
END:VEVENT
END:VCALENDAR