BEGIN:VCALENDAR
VERSION:2.0
PRODID:-//Champagne.ch - ECPv6.15.18//NONSGML v1.0//EN
CALSCALE:GREGORIAN
METHOD:PUBLISH
X-WR-CALNAME:Champagne.ch
X-ORIGINAL-URL:https://champagne.ch
X-WR-CALDESC:Évènements pour Champagne.ch
REFRESH-INTERVAL;VALUE=DURATION:PT1H
X-Robots-Tag:noindex
X-PUBLISHED-TTL:PT1H
BEGIN:VTIMEZONE
TZID:Europe/Zurich
BEGIN:DAYLIGHT
TZOFFSETFROM:+0100
TZOFFSETTO:+0200
TZNAME:CEST
DTSTART:20220327T010000
END:DAYLIGHT
BEGIN:STANDARD
TZOFFSETFROM:+0200
TZOFFSETTO:+0100
TZNAME:CET
DTSTART:20221030T010000
END:STANDARD
BEGIN:DAYLIGHT
TZOFFSETFROM:+0100
TZOFFSETTO:+0200
TZNAME:CEST
DTSTART:20230326T010000
END:DAYLIGHT
BEGIN:STANDARD
TZOFFSETFROM:+0200
TZOFFSETTO:+0100
TZNAME:CET
DTSTART:20231029T010000
END:STANDARD
BEGIN:DAYLIGHT
TZOFFSETFROM:+0100
TZOFFSETTO:+0200
TZNAME:CEST
DTSTART:20240331T010000
END:DAYLIGHT
BEGIN:STANDARD
TZOFFSETFROM:+0200
TZOFFSETTO:+0100
TZNAME:CET
DTSTART:20241027T010000
END:STANDARD
END:VTIMEZONE
BEGIN:VEVENT
DTSTART;TZID=Europe/Zurich:20230801T190000
DTEND;TZID=Europe/Zurich:20230801T230000
DTSTAMP:20260420T071807
CREATED:20220711T072348Z
LAST-MODIFIED:20230703T093927Z
UID:2582-1690916400-1690930800@champagne.ch
SUMMARY:Fête nationale
DESCRIPTION:Toute la population est cordialement invitée\, avec ses invités du jour\, à célébrer \nla fête nationale du 1er août\nà la place de sports Derrière-Ville \n** en cas de mauvais temps à la grande salle ** \nPour rappel\, les feux d’artifice sont interdits. \nOrganisation : FC Champagne \nProgramme \n\n19h00 Ouverture de la buvette\n20h00 Repas offert\n!! ne pas oublier d’apporter assiettes\, services\, verres\, etc. !!\nVente des boissons en faveur de la société organisatrice\n21h00 Partie officielle avec animation musicale\n22h00 Feu\n\nNous nous réjouissons de vous retrouver nombreux ! \nLes autorités communales
URL:https://champagne.ch/evenement/fete-nationale-2/
LOCATION:Place de sports Derrière-Ville\, Champagne\, 1424\, Suisse
CATEGORIES:Manifestations
ORGANIZER;CN="FC Champagne":MAILTO:secretaire@fc-champagne.ch
END:VEVENT
BEGIN:VEVENT
DTSTART;TZID=Europe/Zurich:20230819T100000
DTEND;TZID=Europe/Zurich:20230819T233000
DTSTAMP:20260420T071807
CREATED:20230116T103604Z
LAST-MODIFIED:20230816T062104Z
UID:3391-1692439200-1692487800@champagne.ch
SUMMARY:Champagne à coin
DESCRIPTION:La 4ème édition de Champagne à coin aura lieu le \nsamedi 19 août 2023 \ndans la Cour du Collège \nIl va faire beau et chaud… tout est prévu pour vous abriter du soleil… venez nombreux ! \n \nDébut des festivités à 11h00 où plusieurs groupes locaux se succéderont :\n11h00 – 11h20 – Graine de Stars (rock en herbe)\n11h45 – 12h30 – Quatuor bocal (chansons pour sourire)\n13h00 – 13h45 – Fixit (classic rock)\n14h15 – 15h00 – Les Snieulettes (quintet vocal glamour)\n15h05 – 15h20 – Dá athair (duo de cornemuse)\n15h30 – 16h00 – Chœur d’hommes La Concorde\n16h30 – 17h15 – Loïc Band (folk pop élégente)\n17h30 – 18h15 – Zoé (pop à tubes)\n18h20 – 18h35 – Dá athair (duo de cornemuse)\n18h45 – 19h15 – Ecole de musique\n19h15 – 20h00 – Corps de musique la Centenaire (cuivre\, vents et autres merveilles)\n20h30 – 21h45 – The Howling Rabbits (cover band Combier) \nPossibilité de se restaurer et se désaltérer sur place :\n– Dès 12h Grillades\n– Dès 19h Poulets rotis \nPossibilité de paiement par cash ou par twint ! \nPROGRAMME COMPLET \nVenez nombreux soutenir les artistes ! \nNous cherchons encore des bénévoles pour le vendredi (mise en place)\, le samedi (service\, grillades ou autre) et le dimanche (rangements). Inscription
URL:https://champagne.ch/evenement/champagne-a-coin-3/
LOCATION:Cour du collège ou Grande salle en cas de pluie
CATEGORIES:Manifestations
END:VEVENT
END:VCALENDAR